BEGIN:VCALENDAR
VERSION:2.0
PRODID:-//Healthworks - ECPv4.9.12//NONSGML v1.0//EN
CALSCALE:GREGORIAN
METHOD:PUBLISH
X-WR-CALNAME:Healthworks
X-ORIGINAL-URL:https://www.healthworksne.org.uk
X-WR-CALDESC:Events for Healthworks
BEGIN:VTIMEZONE
TZID:Europe/London
BEGIN:DAYLIGHT
TZOFFSETFROM:+0000
TZOFFSETTO:+0100
TZNAME:BST
DTSTART:20260329T010000
END:DAYLIGHT
BEGIN:STANDARD
TZOFFSETFROM:+0100
TZOFFSETTO:+0000
TZNAME:GMT
DTSTART:20261025T010000
END:STANDARD
END:VTIMEZONE
BEGIN:VEVENT
DTSTART;TZID=Europe/London:20260422T170000
DTEND;TZID=Europe/London:20260422T180000
DTSTAMP:20260422T142240
CREATED:20250619T105419Z
LAST-MODIFIED:20250619T105419Z
UID:53443-1776877200-1776880800@www.healthworksne.org.uk
SUMMARY:Zumba
DESCRIPTION:Dance to great music\, with great people and burn calories without even realising it!\n
URL:https://www.healthworksne.org.uk/event/zumba-6/2026-04-22/
LOCATION:The Health Resource Centre in Benwell\, Adelaide Terrace\, Newcastle-upon-Tyne\, NE4 8BE\, United Kingdom
ATTACH;FMTTYPE=image/png:https://www.healthworksne.org.uk/wp-content/uploads/2023/03/1.png
ORGANIZER;CN="Healthworks":MAILTO:enquiries@hwn.org.uk
GEO:54.970173;-1.6601208
X-APPLE-STRUCTURED-LOCATION;VALUE=URI;X-ADDRESS=The Health Resource Centre in Benwell Adelaide Terrace Newcastle-upon-Tyne NE4 8BE United Kingdom;X-APPLE-RADIUS=500;X-TITLE=Adelaide Terrace:geo:-1.6601208,54.970173
END:VEVENT
BEGIN:VEVENT
DTSTART;TZID=Europe/London:20260423T100000
DTEND;TZID=Europe/London:20260423T113000
DTSTAMP:20260422T142240
CREATED:20211207T133157Z
LAST-MODIFIED:20211207T133157Z
UID:52552-1776938400-1776943800@www.healthworksne.org.uk
SUMMARY:Sensory Baby
DESCRIPTION:Sensory Baby – supporting babies 0-12months with their all-round development. Engage your child’s senses in this fun and interactive session. \n  \n  \n  \n
URL:https://www.healthworksne.org.uk/event/sensory-baby-2022-02-17/2026-04-23/
LOCATION:The Health Resource Centre in Benwell\, Adelaide Terrace\, Newcastle-upon-Tyne\, NE4 8BE\, United Kingdom
ATTACH;FMTTYPE=image/png:https://www.healthworksne.org.uk/wp-content/uploads/2023/03/2-2.png
ORGANIZER;CN="Healthworks":MAILTO:enquiries@hwn.org.uk
GEO:54.970173;-1.6601208
X-APPLE-STRUCTURED-LOCATION;VALUE=URI;X-ADDRESS=The Health Resource Centre in Benwell Adelaide Terrace Newcastle-upon-Tyne NE4 8BE United Kingdom;X-APPLE-RADIUS=500;X-TITLE=Adelaide Terrace:geo:-1.6601208,54.970173
END:VEVENT
BEGIN:VEVENT
DTSTART;TZID=Europe/London:20260423T100000
DTEND;TZID=Europe/London:20260423T113000
DTSTAMP:20260422T142240
CREATED:20250327T141806Z
LAST-MODIFIED:20250327T141806Z
UID:52133-1776938400-1776943800@www.healthworksne.org.uk
SUMMARY:Messy Play
DESCRIPTION:Come along and get Messy. Activities can include gloop\, paint\, playdough and more! For children 0-5 \n
URL:https://www.healthworksne.org.uk/event/messy-play-8/2026-04-23/
LOCATION:The Haven\, Mountfield School\, Halewood Avenue\, Kenton\, Newcastle upon Tyne\, NE3 3RX
ATTACH;FMTTYPE=image/png:https://www.healthworksne.org.uk/wp-content/uploads/2023/12/5.png
ORGANIZER;CN="Healthworks":MAILTO:enquiries@hwn.org.uk
END:VEVENT
BEGIN:VEVENT
DTSTART;TZID=Europe/London:20260423T103000
DTEND;TZID=Europe/London:20260423T113000
DTSTAMP:20260422T142240
CREATED:20210517T112109Z
LAST-MODIFIED:20260317T132615Z
UID:50308-1776940200-1776943800@www.healthworksne.org.uk
SUMMARY:Next Steps
DESCRIPTION:Its aim is to improve participant’s fitness and provide them with with opportunities to meet new people and improve their social networks. \nThe classes are delivered by qualified trainers\, and there is a small charge for attending these sessions. \nFind out more about this and other classes for people with existing conditions on our Getting Active page or contact us. \n
URL:https://www.healthworksne.org.uk/event/next-steps-5-2022-05-30-2022-06-01/2026-04-23/
LOCATION:The Health Resource Centre in Benwell\, Adelaide Terrace\, Newcastle-upon-Tyne\, NE4 8BE\, United Kingdom
ATTACH;FMTTYPE=image/png:https://www.healthworksne.org.uk/wp-content/uploads/2023/03/3.png
ORGANIZER;CN="Healthworks":MAILTO:enquiries@hwn.org.uk
GEO:54.970173;-1.6601208
X-APPLE-STRUCTURED-LOCATION;VALUE=URI;X-ADDRESS=The Health Resource Centre in Benwell Adelaide Terrace Newcastle-upon-Tyne NE4 8BE United Kingdom;X-APPLE-RADIUS=500;X-TITLE=Adelaide Terrace:geo:-1.6601208,54.970173
END:VEVENT
BEGIN:VEVENT
DTSTART;TZID=Europe/London:20260423T103000
DTEND;TZID=Europe/London:20260423T113000
DTSTAMP:20260422T142240
CREATED:20250410T112854Z
LAST-MODIFIED:20250410T112854Z
UID:49185-1776940200-1776943800@www.healthworksne.org.uk
SUMMARY:Keep Moving
DESCRIPTION:Stay healthy\, energetic and independent with our fun\, low impact exercise class. \n
URL:https://www.healthworksne.org.uk/event/keep-moving-6/2026-04-23/
LOCATION:Lemington Centre\, Tyne View\, Newcastle-upon-Tyne\, NE15 8RZ
ATTACH;FMTTYPE=image/png:https://www.healthworksne.org.uk/wp-content/uploads/2023/03/10.png
ORGANIZER;CN="Healthworks":MAILTO:enquiries@hwn.org.uk
END:VEVENT
BEGIN:VEVENT
DTSTART;TZID=Europe/London:20260423T121500
DTEND;TZID=Europe/London:20260423T131500
DTSTAMP:20260422T142240
CREATED:20220126T144645Z
LAST-MODIFIED:20220126T144645Z
UID:48959-1776946500-1776950100@www.healthworksne.org.uk
SUMMARY:Staying Steady
DESCRIPTION:Feel unsteady? Afraid of falling? Had a fall? Staying Steady falls prevention classes will improve your balance\, confidence and stability. \nYou can contact us directly or you can be referred by your GP\, Nurse\, Physio or another professional. Visit www.healthworksne.org.uk or call us on 0191 272 4244. \n  \n  \n
URL:https://www.healthworksne.org.uk/event/staying-steady-at-east-end-pool/2026-04-23/
LOCATION:East End Pool\, Hadrian Square\, Byker\, Newcastle upon Tyne\, NE6 1AL\, United Kingdom
ATTACH;FMTTYPE=image/png:https://www.healthworksne.org.uk/wp-content/uploads/2023/03/5.png
ORGANIZER;CN="Healthworks":MAILTO:enquiries@hwn.org.uk
END:VEVENT
BEGIN:VEVENT
DTSTART;TZID=Europe/London:20260423T134500
DTEND;TZID=Europe/London:20260423T144500
DTSTAMP:20260422T142240
CREATED:20220126T145122Z
LAST-MODIFIED:20220126T145122Z
UID:48858-1776951900-1776955500@www.healthworksne.org.uk
SUMMARY:Staying Steady
DESCRIPTION:You can contact us directly or you can be referred by your GP\, Nurse\, Physio or another professional. Visit www.healthworksne.org.uk or call us on 0191 272 4244. \n  \n  \n
URL:https://www.healthworksne.org.uk/event/staying-steady-at-east-end-pool-2/2026-04-23/
LOCATION:East End Pool\, Hadrian Square\, Byker\, Newcastle upon Tyne\, NE6 1AL\, United Kingdom
ATTACH;FMTTYPE=image/png:https://www.healthworksne.org.uk/wp-content/uploads/2023/03/5.png
ORGANIZER;CN="Healthworks":MAILTO:enquiries@hwn.org.uk
END:VEVENT
BEGIN:VEVENT
DTSTART;TZID=Europe/London:20260423T150000
DTEND;TZID=Europe/London:20260423T160000
DTSTAMP:20260422T142240
CREATED:20240417T103203Z
LAST-MODIFIED:20240417T103203Z
UID:50971-1776956400-1776960000@www.healthworksne.org.uk
SUMMARY:Baby Gym Benwell
DESCRIPTION: \n
URL:https://www.healthworksne.org.uk/event/baby-gym-benwell-2/2026-04-23/
LOCATION:The Health Resource Centre in Benwell\, Adelaide Terrace\, Newcastle-upon-Tyne\, NE4 8BE\, United Kingdom
ATTACH;FMTTYPE=image/png:https://www.healthworksne.org.uk/wp-content/uploads/2024/04/Baby-Gym-graphic-4.png
ORGANIZER;CN="Healthworks":MAILTO:enquiries@hwn.org.uk
GEO:54.970173;-1.6601208
X-APPLE-STRUCTURED-LOCATION;VALUE=URI;X-ADDRESS=The Health Resource Centre in Benwell Adelaide Terrace Newcastle-upon-Tyne NE4 8BE United Kingdom;X-APPLE-RADIUS=500;X-TITLE=Adelaide Terrace:geo:-1.6601208,54.970173
END:VEVENT
BEGIN:VEVENT
DTSTART;TZID=Europe/London:20260423T173000
DTEND;TZID=Europe/London:20260423T183000
DTSTAMP:20260422T142240
CREATED:20210825T122904Z
LAST-MODIFIED:20210825T122904Z
UID:51324-1776965400-1776969000@www.healthworksne.org.uk
SUMMARY:Yoga
DESCRIPTION:\n\n\n  \n
URL:https://www.healthworksne.org.uk/event/yoga-4/2026-04-23/
LOCATION:The Health Resource Centre in Benwell\, Adelaide Terrace\, Newcastle-upon-Tyne\, NE4 8BE\, United Kingdom
ATTACH;FMTTYPE=image/png:https://www.healthworksne.org.uk/wp-content/uploads/2023/03/8.png
ORGANIZER;CN="Healthworks":MAILTO:enquiries@hwn.org.uk
GEO:54.970173;-1.6601208
X-APPLE-STRUCTURED-LOCATION;VALUE=URI;X-ADDRESS=The Health Resource Centre in Benwell Adelaide Terrace Newcastle-upon-Tyne NE4 8BE United Kingdom;X-APPLE-RADIUS=500;X-TITLE=Adelaide Terrace:geo:-1.6601208,54.970173
END:VEVENT
BEGIN:VEVENT
DTSTART;TZID=Europe/London:20260424T090000
DTEND;TZID=Europe/London:20260424T100000
DTSTAMP:20260422T142240
CREATED:20210825T110400Z
LAST-MODIFIED:20260317T132945Z
UID:50676-1777021200-1777024800@www.healthworksne.org.uk
SUMMARY:Women Only Gym
DESCRIPTION:Please note: male members of staff will be present on site. However\, they will not enter the gym during this time. \n  \n
URL:https://www.healthworksne.org.uk/event/women-only-gym-3/2026-04-24/
LOCATION:The Health Resource Centre in Benwell\, Adelaide Terrace\, Newcastle-upon-Tyne\, NE4 8BE\, United Kingdom
ATTACH;FMTTYPE=image/png:https://www.healthworksne.org.uk/wp-content/uploads/2023/03/6.png
ORGANIZER;CN="Healthworks":MAILTO:enquiries@hwn.org.uk
GEO:54.970173;-1.6601208
X-APPLE-STRUCTURED-LOCATION;VALUE=URI;X-ADDRESS=The Health Resource Centre in Benwell Adelaide Terrace Newcastle-upon-Tyne NE4 8BE United Kingdom;X-APPLE-RADIUS=500;X-TITLE=Adelaide Terrace:geo:-1.6601208,54.970173
END:VEVENT
BEGIN:VEVENT
DTSTART;TZID=Europe/London:20260424T094500
DTEND;TZID=Europe/London:20260424T111500
DTSTAMP:20260422T142240
CREATED:20210517T114950Z
LAST-MODIFIED:20260317T133103Z
UID:51525-1777023900-1777029300@www.healthworksne.org.uk
SUMMARY:Yoga
DESCRIPTION:
URL:https://www.healthworksne.org.uk/event/yoga-3-2024-09-13/2026-04-24/
LOCATION:Lemington Centre\, Tyne View\, Newcastle-upon-Tyne\, NE15 8RZ
ATTACH;FMTTYPE=image/png:https://www.healthworksne.org.uk/wp-content/uploads/2023/03/8.png
ORGANIZER;CN="Healthworks":MAILTO:enquiries@hwn.org.uk
END:VEVENT
BEGIN:VEVENT
DTSTART;TZID=Europe/London:20260424T100000
DTEND;TZID=Europe/London:20260424T113000
DTSTAMP:20260422T142240
CREATED:20211007T121325Z
LAST-MODIFIED:20260317T133116Z
UID:50025-1777024800-1777030200@www.healthworksne.org.uk
SUMMARY:St Martins Breastfeeding Social
DESCRIPTION:For more information on this group\, send us a message or call us on 07826531575. \n  \n  \n
URL:https://www.healthworksne.org.uk/event/st-martins-breastfeeding-group-2022-04-04/2026-04-24/
LOCATION:St Martins Centre\, Roman Ave\, Newcastle upon Tyne\, NE6 2RJ\, United Kingdom
ATTACH;FMTTYPE=image/png:https://www.healthworksne.org.uk/wp-content/uploads/2023/03/1-2.png
ORGANIZER;CN="Healthworks":MAILTO:enquiries@hwn.org.uk
END:VEVENT
BEGIN:VEVENT
DTSTART;TZID=Europe/London:20260424T100000
DTEND;TZID=Europe/London:20260424T104500
DTSTAMP:20260422T142240
CREATED:20211026T072302Z
LAST-MODIFIED:20260317T133124Z
UID:50577-1777024800-1777027500@www.healthworksne.org.uk
SUMMARY:Women Only Fitness Fusion
DESCRIPTION:Join us for a total body workout at The Health Resource Centre! \n  \n
URL:https://www.healthworksne.org.uk/event/women-only-fitness-fusion/2026-04-24/
LOCATION:The Health Resource Centre in Benwell\, Adelaide Terrace\, Newcastle-upon-Tyne\, NE4 8BE\, United Kingdom
ATTACH;FMTTYPE=image/png:https://www.healthworksne.org.uk/wp-content/uploads/2023/03/9.png
ORGANIZER;CN="Healthworks":MAILTO:enquiries@hwn.org.uk
GEO:54.970173;-1.6601208
X-APPLE-STRUCTURED-LOCATION;VALUE=URI;X-ADDRESS=The Health Resource Centre in Benwell Adelaide Terrace Newcastle-upon-Tyne NE4 8BE United Kingdom;X-APPLE-RADIUS=500;X-TITLE=Adelaide Terrace:geo:-1.6601208,54.970173
END:VEVENT
BEGIN:VEVENT
DTSTART;TZID=Europe/London:20260424T100000
DTEND;TZID=Europe/London:20260424T113000
DTSTAMP:20260422T142240
CREATED:20230308T115034Z
LAST-MODIFIED:20260317T134311Z
UID:52210-1777024800-1777030200@www.healthworksne.org.uk
SUMMARY:Messy Play
DESCRIPTION:Fun\, messy activities including gloop\, playdough\, painting\, pasta play and more for children 0-5 \n
URL:https://www.healthworksne.org.uk/event/messy-play-2/2026-04-24/
LOCATION:The Health Resource Centre in Benwell\, Adelaide Terrace\, Newcastle-upon-Tyne\, NE4 8BE\, United Kingdom
ATTACH;FMTTYPE=image/png:https://www.healthworksne.org.uk/wp-content/uploads/2023/03/4-2.png
ORGANIZER;CN="Healthworks":MAILTO:enquiries@hwn.org.uk
GEO:54.970173;-1.6601208
X-APPLE-STRUCTURED-LOCATION;VALUE=URI;X-ADDRESS=The Health Resource Centre in Benwell Adelaide Terrace Newcastle-upon-Tyne NE4 8BE United Kingdom;X-APPLE-RADIUS=500;X-TITLE=Adelaide Terrace:geo:-1.6601208,54.970173
END:VEVENT
BEGIN:VEVENT
DTSTART;TZID=Europe/London:20260424T100000
DTEND;TZID=Europe/London:20260424T113000
DTSTAMP:20260422T142240
CREATED:20250327T144550Z
LAST-MODIFIED:20260317T133733Z
UID:52449-1777024800-1777030200@www.healthworksne.org.uk
SUMMARY:Sensory Baby
DESCRIPTION:Sensory Baby – supporting babies 0-12months with their all-round development. Engage your child’s senses in this fun and interactive session. \n
URL:https://www.healthworksne.org.uk/event/sensory-baby-4/2026-04-24/
LOCATION:The Galafield Centre\, Newbiggin Lane\, Newcastle upon Tyne\, NE5 1LZ\, United Kingdom
ATTACH;FMTTYPE=image/png:https://www.healthworksne.org.uk/wp-content/uploads/2023/03/2-2.png
ORGANIZER;CN="Healthworks":MAILTO:enquiries@hwn.org.uk
END:VEVENT
BEGIN:VEVENT
DTSTART;TZID=Europe/London:20260424T130000
DTEND;TZID=Europe/London:20260424T140000
DTSTAMP:20260422T142240
CREATED:20260408T130702Z
LAST-MODIFIED:20260408T130702Z
UID:54656-1777035600-1777039200@www.healthworksne.org.uk
SUMMARY:Baby Massage
DESCRIPTION:Baby Massage is a lovely way to enjoy time with your baby. It can help with bonding\, colic\, teething and circulation. Come to our friendly 5 week course. Booking is essential 07961 734298 \n
URL:https://www.healthworksne.org.uk/event/baby-massage-19/
LOCATION:Woodlands Pre School\, Newton Place\, High Heaton\, Newcastle upon Tyne\, NE7 7HD\, United Kingdom
ATTACH;FMTTYPE=image/png:https://www.healthworksne.org.uk/wp-content/uploads/2023/12/4.png
ORGANIZER;CN="Healthworks":MAILTO:enquiries@hwn.org.uk
END:VEVENT
BEGIN:VEVENT
DTSTART;TZID=Europe/London:20260424T140000
DTEND;TZID=Europe/London:20260424T150000
DTSTAMP:20260422T142240
CREATED:20240417T103843Z
LAST-MODIFIED:20260317T133139Z
UID:50771-1777039200-1777042800@www.healthworksne.org.uk
SUMMARY:Baby Gym - Lemington
DESCRIPTION: \n
URL:https://www.healthworksne.org.uk/event/baby-gym-lemington-2/2026-04-24/
LOCATION:Lemington Centre\, Tyne View\, Newcastle-upon-Tyne\, NE15 8RZ
ATTACH;FMTTYPE=image/png:https://www.healthworksne.org.uk/wp-content/uploads/2024/04/Baby-Gym-graphic-4.png
ORGANIZER;CN="Healthworks":MAILTO:enquiries@hwn.org.uk
END:VEVENT
BEGIN:VEVENT
DTSTART;TZID=Europe/London:20260424T141500
DTEND;TZID=Europe/London:20260424T151500
DTSTAMP:20260422T142240
CREATED:20260408T131129Z
LAST-MODIFIED:20260408T131129Z
UID:54669-1777040100-1777043700@www.healthworksne.org.uk
SUMMARY:Sensory Baby
DESCRIPTION:Sensory Baby – supporting babies 0-12 months with their all-round development. Engage your child’s senses in this fun and interactive session. \n  \n
URL:https://www.healthworksne.org.uk/event/sensory-baby-6/
LOCATION:Woodlands Pre School\, Newton Place\, High Heaton\, Newcastle upon Tyne\, NE7 7HD\, United Kingdom
ATTACH;FMTTYPE=image/png:https://www.healthworksne.org.uk/wp-content/uploads/2023/03/2-2.png
ORGANIZER;CN="Healthworks":MAILTO:enquiries@hwn.org.uk
END:VEVENT
BEGIN:VEVENT
DTSTART;TZID=Europe/London:20260425T113000
DTEND;TZID=Europe/London:20260425T123000
DTSTAMP:20260422T142240
CREATED:20241015T121147Z
LAST-MODIFIED:20241015T121147Z
UID:51424-1777116600-1777120200@www.healthworksne.org.uk
SUMMARY:Badminton Sessions
DESCRIPTION:Book your badminton session at The Lemington Centre. £7 per hour. All equipment available. Just show up! Book at the reception or call 0191 2641959. \nSlots available are: \n11.30am to 12.30pm \n
URL:https://www.healthworksne.org.uk/event/badminton-sessions-4/2026-04-25/
LOCATION:Lemington Centre\, Tyne View\, Newcastle-upon-Tyne\, NE15 8RZ
ATTACH;FMTTYPE=image/png:https://www.healthworksne.org.uk/wp-content/uploads/2024/10/FINAL-Fitness-Class-Socials-TLC-January-2023.png
ORGANIZER;CN="Healthworks":MAILTO:enquiries@hwn.org.uk
END:VEVENT
END:VCALENDAR