BEGIN:VCALENDAR
VERSION:2.0
PRODID:-//Healthworks - ECPv4.9.12//NONSGML v1.0//EN
CALSCALE:GREGORIAN
METHOD:PUBLISH
X-WR-CALNAME:Healthworks
X-ORIGINAL-URL:https://www.healthworksne.org.uk
X-WR-CALDESC:Events for Healthworks
BEGIN:VTIMEZONE
TZID:Europe/London
BEGIN:DAYLIGHT
TZOFFSETFROM:+0000
TZOFFSETTO:+0100
TZNAME:BST
DTSTART:20260329T010000
END:DAYLIGHT
BEGIN:STANDARD
TZOFFSETFROM:+0100
TZOFFSETTO:+0000
TZNAME:GMT
DTSTART:20261025T010000
END:STANDARD
END:VTIMEZONE
BEGIN:VEVENT
DTSTART;TZID=Europe/London:20260424T090000
DTEND;TZID=Europe/London:20260424T100000
DTSTAMP:20260422T155213
CREATED:20210825T110400Z
LAST-MODIFIED:20260317T132945Z
UID:50676-1777021200-1777024800@www.healthworksne.org.uk
SUMMARY:Women Only Gym
DESCRIPTION:Please note: male members of staff will be present on site. However\, they will not enter the gym during this time. \n  \n
URL:https://www.healthworksne.org.uk/event/women-only-gym-3/2026-04-24/
LOCATION:The Health Resource Centre in Benwell\, Adelaide Terrace\, Newcastle-upon-Tyne\, NE4 8BE\, United Kingdom
ATTACH;FMTTYPE=image/png:https://www.healthworksne.org.uk/wp-content/uploads/2023/03/6.png
ORGANIZER;CN="Healthworks":MAILTO:enquiries@hwn.org.uk
GEO:54.970173;-1.6601208
X-APPLE-STRUCTURED-LOCATION;VALUE=URI;X-ADDRESS=The Health Resource Centre in Benwell Adelaide Terrace Newcastle-upon-Tyne NE4 8BE United Kingdom;X-APPLE-RADIUS=500;X-TITLE=Adelaide Terrace:geo:-1.6601208,54.970173
END:VEVENT
BEGIN:VEVENT
DTSTART;TZID=Europe/London:20260424T094500
DTEND;TZID=Europe/London:20260424T111500
DTSTAMP:20260422T155213
CREATED:20210517T114950Z
LAST-MODIFIED:20260317T133103Z
UID:51525-1777023900-1777029300@www.healthworksne.org.uk
SUMMARY:Yoga
DESCRIPTION:
URL:https://www.healthworksne.org.uk/event/yoga-3-2024-09-13/2026-04-24/
LOCATION:Lemington Centre\, Tyne View\, Newcastle-upon-Tyne\, NE15 8RZ
ATTACH;FMTTYPE=image/png:https://www.healthworksne.org.uk/wp-content/uploads/2023/03/8.png
ORGANIZER;CN="Healthworks":MAILTO:enquiries@hwn.org.uk
END:VEVENT
BEGIN:VEVENT
DTSTART;TZID=Europe/London:20260424T100000
DTEND;TZID=Europe/London:20260424T113000
DTSTAMP:20260422T155213
CREATED:20211007T121325Z
LAST-MODIFIED:20260317T133116Z
UID:50025-1777024800-1777030200@www.healthworksne.org.uk
SUMMARY:St Martins Breastfeeding Social
DESCRIPTION:For more information on this group\, send us a message or call us on 07826531575. \n  \n  \n
URL:https://www.healthworksne.org.uk/event/st-martins-breastfeeding-group-2022-04-04/2026-04-24/
LOCATION:St Martins Centre\, Roman Ave\, Newcastle upon Tyne\, NE6 2RJ\, United Kingdom
ATTACH;FMTTYPE=image/png:https://www.healthworksne.org.uk/wp-content/uploads/2023/03/1-2.png
ORGANIZER;CN="Healthworks":MAILTO:enquiries@hwn.org.uk
END:VEVENT
BEGIN:VEVENT
DTSTART;TZID=Europe/London:20260424T100000
DTEND;TZID=Europe/London:20260424T104500
DTSTAMP:20260422T155213
CREATED:20211026T072302Z
LAST-MODIFIED:20260317T133124Z
UID:50577-1777024800-1777027500@www.healthworksne.org.uk
SUMMARY:Women Only Fitness Fusion
DESCRIPTION:Join us for a total body workout at The Health Resource Centre! \n  \n
URL:https://www.healthworksne.org.uk/event/women-only-fitness-fusion/2026-04-24/
LOCATION:The Health Resource Centre in Benwell\, Adelaide Terrace\, Newcastle-upon-Tyne\, NE4 8BE\, United Kingdom
ATTACH;FMTTYPE=image/png:https://www.healthworksne.org.uk/wp-content/uploads/2023/03/9.png
ORGANIZER;CN="Healthworks":MAILTO:enquiries@hwn.org.uk
GEO:54.970173;-1.6601208
X-APPLE-STRUCTURED-LOCATION;VALUE=URI;X-ADDRESS=The Health Resource Centre in Benwell Adelaide Terrace Newcastle-upon-Tyne NE4 8BE United Kingdom;X-APPLE-RADIUS=500;X-TITLE=Adelaide Terrace:geo:-1.6601208,54.970173
END:VEVENT
BEGIN:VEVENT
DTSTART;TZID=Europe/London:20260424T100000
DTEND;TZID=Europe/London:20260424T113000
DTSTAMP:20260422T155213
CREATED:20230308T115034Z
LAST-MODIFIED:20260317T134311Z
UID:52210-1777024800-1777030200@www.healthworksne.org.uk
SUMMARY:Messy Play
DESCRIPTION:Fun\, messy activities including gloop\, playdough\, painting\, pasta play and more for children 0-5 \n
URL:https://www.healthworksne.org.uk/event/messy-play-2/2026-04-24/
LOCATION:The Health Resource Centre in Benwell\, Adelaide Terrace\, Newcastle-upon-Tyne\, NE4 8BE\, United Kingdom
ATTACH;FMTTYPE=image/png:https://www.healthworksne.org.uk/wp-content/uploads/2023/03/4-2.png
ORGANIZER;CN="Healthworks":MAILTO:enquiries@hwn.org.uk
GEO:54.970173;-1.6601208
X-APPLE-STRUCTURED-LOCATION;VALUE=URI;X-ADDRESS=The Health Resource Centre in Benwell Adelaide Terrace Newcastle-upon-Tyne NE4 8BE United Kingdom;X-APPLE-RADIUS=500;X-TITLE=Adelaide Terrace:geo:-1.6601208,54.970173
END:VEVENT
BEGIN:VEVENT
DTSTART;TZID=Europe/London:20260424T100000
DTEND;TZID=Europe/London:20260424T113000
DTSTAMP:20260422T155213
CREATED:20250327T144550Z
LAST-MODIFIED:20260317T133733Z
UID:52449-1777024800-1777030200@www.healthworksne.org.uk
SUMMARY:Sensory Baby
DESCRIPTION:Sensory Baby – supporting babies 0-12months with their all-round development. Engage your child’s senses in this fun and interactive session. \n
URL:https://www.healthworksne.org.uk/event/sensory-baby-4/2026-04-24/
LOCATION:The Galafield Centre\, Newbiggin Lane\, Newcastle upon Tyne\, NE5 1LZ\, United Kingdom
ATTACH;FMTTYPE=image/png:https://www.healthworksne.org.uk/wp-content/uploads/2023/03/2-2.png
ORGANIZER;CN="Healthworks":MAILTO:enquiries@hwn.org.uk
END:VEVENT
BEGIN:VEVENT
DTSTART;TZID=Europe/London:20260424T130000
DTEND;TZID=Europe/London:20260424T140000
DTSTAMP:20260422T155213
CREATED:20260408T130702Z
LAST-MODIFIED:20260408T130702Z
UID:54656-1777035600-1777039200@www.healthworksne.org.uk
SUMMARY:Baby Massage
DESCRIPTION:Baby Massage is a lovely way to enjoy time with your baby. It can help with bonding\, colic\, teething and circulation. Come to our friendly 5 week course. Booking is essential 07961 734298 \n
URL:https://www.healthworksne.org.uk/event/baby-massage-19/
LOCATION:Woodlands Pre School\, Newton Place\, High Heaton\, Newcastle upon Tyne\, NE7 7HD\, United Kingdom
ATTACH;FMTTYPE=image/png:https://www.healthworksne.org.uk/wp-content/uploads/2023/12/4.png
ORGANIZER;CN="Healthworks":MAILTO:enquiries@hwn.org.uk
END:VEVENT
BEGIN:VEVENT
DTSTART;TZID=Europe/London:20260424T140000
DTEND;TZID=Europe/London:20260424T150000
DTSTAMP:20260422T155213
CREATED:20240417T103843Z
LAST-MODIFIED:20260317T133139Z
UID:50771-1777039200-1777042800@www.healthworksne.org.uk
SUMMARY:Baby Gym - Lemington
DESCRIPTION: \n
URL:https://www.healthworksne.org.uk/event/baby-gym-lemington-2/2026-04-24/
LOCATION:Lemington Centre\, Tyne View\, Newcastle-upon-Tyne\, NE15 8RZ
ATTACH;FMTTYPE=image/png:https://www.healthworksne.org.uk/wp-content/uploads/2024/04/Baby-Gym-graphic-4.png
ORGANIZER;CN="Healthworks":MAILTO:enquiries@hwn.org.uk
END:VEVENT
BEGIN:VEVENT
DTSTART;TZID=Europe/London:20260424T141500
DTEND;TZID=Europe/London:20260424T151500
DTSTAMP:20260422T155213
CREATED:20260408T131129Z
LAST-MODIFIED:20260408T131129Z
UID:54669-1777040100-1777043700@www.healthworksne.org.uk
SUMMARY:Sensory Baby
DESCRIPTION:Sensory Baby – supporting babies 0-12 months with their all-round development. Engage your child’s senses in this fun and interactive session. \n  \n
URL:https://www.healthworksne.org.uk/event/sensory-baby-6/
LOCATION:Woodlands Pre School\, Newton Place\, High Heaton\, Newcastle upon Tyne\, NE7 7HD\, United Kingdom
ATTACH;FMTTYPE=image/png:https://www.healthworksne.org.uk/wp-content/uploads/2023/03/2-2.png
ORGANIZER;CN="Healthworks":MAILTO:enquiries@hwn.org.uk
END:VEVENT
END:VCALENDAR